BEGIN:VCALENDAR
VERSION:2.0
PRODID:-//THE EPICENTER LA - ECPv6.2.9//NONSGML v1.0//EN
CALSCALE:GREGORIAN
METHOD:PUBLISH
X-WR-CALNAME:THE EPICENTER LA
X-ORIGINAL-URL:http://epicenterla.org
X-WR-CALDESC:Events for THE EPICENTER LA
REFRESH-INTERVAL;VALUE=DURATION:PT1H
X-Robots-Tag:noindex
X-PUBLISHED-TTL:PT1H
BEGIN:VTIMEZONE
TZID:America/Los_Angeles
BEGIN:DAYLIGHT
TZOFFSETFROM:-0800
TZOFFSETTO:-0700
TZNAME:PDT
DTSTART:20180311T100000
END:DAYLIGHT
BEGIN:STANDARD
TZOFFSETFROM:-0700
TZOFFSETTO:-0800
TZNAME:PST
DTSTART:20181104T090000
END:STANDARD
BEGIN:DAYLIGHT
TZOFFSETFROM:-0800
TZOFFSETTO:-0700
TZNAME:PDT
DTSTART:20190310T100000
END:DAYLIGHT
BEGIN:STANDARD
TZOFFSETFROM:-0700
TZOFFSETTO:-0800
TZNAME:PST
DTSTART:20191103T090000
END:STANDARD
END:VTIMEZONE
BEGIN:VEVENT
DTSTART;TZID=America/Los_Angeles:20190514T183000
DTEND;TZID=America/Los_Angeles:20190514T200000
DTSTAMP:20260420T171914
CREATED:20190418T231536Z
LAST-MODIFIED:20190418T231536Z
UID:4291-1557858600-1557864000@epicenterla.org
SUMMARY:NEIGHBORHOOD COUNCIL: Downtown Los Angeles
DESCRIPTION:
URL:http://epicenterla.org/event/neighborhood-council-downtown-los-angeles/
LOCATION:Palace Theatre\, 630 S Broadway\, Los Angeles\, CA\, 90012\, United States
END:VEVENT
BEGIN:VEVENT
DTSTART;TZID=America/Los_Angeles:20190502T093000
DTEND;TZID=America/Los_Angeles:20190502T130000
DTSTAMP:20260420T171914
CREATED:20190418T230543Z
LAST-MODIFIED:20190418T230725Z
UID:4281-1556789400-1556802000@epicenterla.org
SUMMARY:WEBINAR: Links between cardiovascular and reproductive health
DESCRIPTION:This webinar brought to you by the Tulane Center of Excellence in Maternal and Child Health\, Tulane Prevention Research Center\, and APHA will explore the interrelationships between cardiovascular and reproductive health\, across the life course and across generations. \nPresenter Emily Harville\, PhD\, of theTulane University School of Public Health and Tropical Medicine\, will: \n\nList ways in which cardiovascular health affects pregnancy outcomes\, and vice versa;\nAssess the evidence for multigenerational influences on birth outcomes; and\nDiscuss how life course and multigenerational health may contribute to health disparities in perinatal outcomes.
URL:http://epicenterla.org/event/webinar-links-between-cardiovascular-and-reproductive-health/
LOCATION:CA
END:VEVENT
BEGIN:VEVENT
DTSTART;TZID=America/Los_Angeles:20190424T190000
DTEND;TZID=America/Los_Angeles:20190424T203000
DTSTAMP:20260420T171914
CREATED:20190418T231701Z
LAST-MODIFIED:20190418T231701Z
UID:4294-1556132400-1556137800@epicenterla.org
SUMMARY:NEIGHBORHOOD COUNCIL: West Los Angeles
DESCRIPTION:
URL:http://epicenterla.org/event/neighborhood-council-west-los-angeles/
LOCATION:Felicia Mahood Center\, 11338 Santa Monica Blvd.\, Los Angeles\, CA\, 90025\, United States
END:VEVENT
BEGIN:VEVENT
DTSTART;TZID=America/Los_Angeles:20190424T190000
DTEND;TZID=America/Los_Angeles:20190424T203000
DTSTAMP:20260420T171914
CREATED:20190418T231144Z
LAST-MODIFIED:20190418T231144Z
UID:4284-1556132400-1556137800@epicenterla.org
SUMMARY:NEIGHBORHOOD COUNCIL: Bel Air- Beverly Crest
DESCRIPTION:
URL:http://epicenterla.org/event/neighborhood-council-bel-air-beverly-crest/
LOCATION:American Jewish Community\, 15600 Mulholland Drive\, Room 223\, Bel Air\, CA\, 90077\, United States
END:VEVENT
BEGIN:VEVENT
DTSTART;TZID=America/Los_Angeles:20190424T090000
DTEND;TZID=America/Los_Angeles:20190424T113000
DTSTAMP:20260420T171914
CREATED:20190311T194305Z
LAST-MODIFIED:20190311T194305Z
UID:3963-1556096400-1556105400@epicenterla.org
SUMMARY:LAFD CERT - DTLA
DESCRIPTION:
URL:http://epicenterla.org/event/lafd-cert-dtla-7/
LOCATION:Figueroa Plaza\, 221 N. Figueroa St Room 550\, Los Angeles\, 90012\, United States
CATEGORIES:CERT Training
END:VEVENT
BEGIN:VEVENT
DTSTART;TZID=America/Los_Angeles:20190422T180000
DTEND;TZID=America/Los_Angeles:20190422T193000
DTSTAMP:20260420T171914
CREATED:20190418T231353Z
LAST-MODIFIED:20190418T231353Z
UID:4287-1555956000-1555961400@epicenterla.org
SUMMARY:NEIGHBORHOOD COUNCIL: Central Hollywood
DESCRIPTION:
URL:http://epicenterla.org/event/neighborhood-council-central-hollywood/
LOCATION:Hollywood Neighborhood City Hall\, 6501 Fountain Ave\, Hollywood\, CA\, 90028\, United States
END:VEVENT
BEGIN:VEVENT
DTSTART;TZID=America/Los_Angeles:20190419T080000
DTEND;TZID=America/Los_Angeles:20190419T120000
DTSTAMP:20260420T171914
CREATED:20190418T232552Z
LAST-MODIFIED:20190418T232552Z
UID:4297-1555660800-1555675200@epicenterla.org
SUMMARY:CPR CLASS: American Red Cross
DESCRIPTION:
URL:http://epicenterla.org/event/cpr-class-american-red-cross/
LOCATION:2975 Wilshire Blvd Suite L\, 2975 Wilshire Blvd Suite L\, Los Angeles\, CA\, 90010\, United States
END:VEVENT
BEGIN:VEVENT
DTSTART;TZID=America/Los_Angeles:20190417T090000
DTEND;TZID=America/Los_Angeles:20190417T113000
DTSTAMP:20260420T171914
CREATED:20190311T194225Z
LAST-MODIFIED:20190311T194225Z
UID:3961-1555491600-1555500600@epicenterla.org
SUMMARY:LAFD CERT - DTLA
DESCRIPTION:
URL:http://epicenterla.org/event/lafd-cert-dtla-6/
LOCATION:Figueroa Plaza\, 221 N. Figueroa St Room 550\, Los Angeles\, 90012\, United States
END:VEVENT
BEGIN:VEVENT
DTSTART;TZID=America/Los_Angeles:20190410T090000
DTEND;TZID=America/Los_Angeles:20190410T113000
DTSTAMP:20260420T171914
CREATED:20190311T194153Z
LAST-MODIFIED:20190311T194153Z
UID:3959-1554886800-1554895800@epicenterla.org
SUMMARY:LAFD CERT - DTLA
DESCRIPTION:
URL:http://epicenterla.org/event/lafd-cert-dtla-5/
LOCATION:Figueroa Plaza\, 221 N. Figueroa St Room 550\, Los Angeles\, 90012\, United States
END:VEVENT
BEGIN:VEVENT
DTSTART;TZID=America/Los_Angeles:20190403T090000
DTEND;TZID=America/Los_Angeles:20190403T113000
DTSTAMP:20260420T171914
CREATED:20190311T194119Z
LAST-MODIFIED:20190311T194119Z
UID:3957-1554282000-1554291000@epicenterla.org
SUMMARY:LAFD CERT - DTLA
DESCRIPTION:
URL:http://epicenterla.org/event/lafd-cert-dtla-4/
LOCATION:Figueroa Plaza\, 221 N. Figueroa St Room 550\, Los Angeles\, 90012\, United States
END:VEVENT
BEGIN:VEVENT
DTSTART;TZID=America/Los_Angeles:20190327T100000
DTEND;TZID=America/Los_Angeles:20190327T123000
DTSTAMP:20260420T171914
CREATED:20190305T043041Z
LAST-MODIFIED:20190305T043041Z
UID:3920-1553680800-1553689800@epicenterla.org
SUMMARY:LAFD CERT
DESCRIPTION:
URL:http://epicenterla.org/event/lafd-cert/
LOCATION:department of transportation\, 100 S. Main St\, Los Angeles\, CA\, 90012\, United States
CATEGORIES:CERT Training
END:VEVENT
BEGIN:VEVENT
DTSTART;TZID=America/Los_Angeles:20190327T090000
DTEND;TZID=America/Los_Angeles:20190327T113000
DTSTAMP:20260420T171914
CREATED:20190311T194044Z
LAST-MODIFIED:20190311T194044Z
UID:3955-1553677200-1553686200@epicenterla.org
SUMMARY:LAFD CERT - DTLA
DESCRIPTION:
URL:http://epicenterla.org/event/lafd-cert-dtla-3/
LOCATION:Figueroa Plaza\, 221 N. Figueroa St Room 550\, Los Angeles\, 90012\, United States
END:VEVENT
BEGIN:VEVENT
DTSTART;TZID=America/Los_Angeles:20190320T090000
DTEND;TZID=America/Los_Angeles:20190320T113000
DTSTAMP:20260420T171914
CREATED:20190311T193951Z
LAST-MODIFIED:20190311T193951Z
UID:3953-1553072400-1553081400@epicenterla.org
SUMMARY:LAFD CERT - DTLA
DESCRIPTION:
URL:http://epicenterla.org/event/lafd-cert-dtla-2/
LOCATION:Figueroa Plaza\, 221 N. Figueroa St Room 550\, Los Angeles\, 90012\, United States
END:VEVENT
BEGIN:VEVENT
DTSTART;TZID=America/Los_Angeles:20190313T190000
DTEND;TZID=America/Los_Angeles:20190313T200000
DTSTAMP:20260420T171914
CREATED:20190305T034312Z
LAST-MODIFIED:20190305T034312Z
UID:3912-1552503600-1552507200@epicenterla.org
SUMMARY:Westwood Neighborhood Council
DESCRIPTION:The WWNC is an elected council within the LA Neighborhood Council system.
URL:http://epicenterla.org/event/westwood-neighborhood-council/
LOCATION:1st Floor Community Room/TownHall\, 10475 Wilshire Blvd.\, Los Angeles\, CA\, 90024\, United States
END:VEVENT
BEGIN:VEVENT
DTSTART;TZID=America/Los_Angeles:20190313T110000
DTEND;TZID=America/Los_Angeles:20190313T120000
DTSTAMP:20260420T171914
CREATED:20190311T213944Z
LAST-MODIFIED:20190311T213944Z
UID:3978-1552474800-1552478400@epicenterla.org
SUMMARY:National Public Health Week: Social Media 201 Webinar
DESCRIPTION:
URL:http://epicenterla.org/event/national-public-health-week-social-media-201-webinar/
LOCATION:CA
END:VEVENT
BEGIN:VEVENT
DTSTART;TZID=America/Los_Angeles:20190313T090000
DTEND;TZID=America/Los_Angeles:20190313T113000
DTSTAMP:20260420T171914
CREATED:20190311T193840Z
LAST-MODIFIED:20190311T193840Z
UID:3950-1552467600-1552476600@epicenterla.org
SUMMARY:LAFD CERT - DTLA
DESCRIPTION:
URL:http://epicenterla.org/event/lafd-cert-dtla/
LOCATION:Figueroa Plaza\, 221 N. Figueroa St Room 550\, Los Angeles\, 90012\, United States
END:VEVENT
BEGIN:VEVENT
DTSTART;TZID=America/Los_Angeles:20190312T183000
DTEND;TZID=America/Los_Angeles:20190312T193000
DTSTAMP:20260420T171914
CREATED:20190311T194642Z
LAST-MODIFIED:20190311T194642Z
UID:3965-1552415400-1552419000@epicenterla.org
SUMMARY:Downtown LA Neighborhood Council Meeting
DESCRIPTION:
URL:http://epicenterla.org/event/downtown-la-neighborhood-council-meeting/
LOCATION:Palace Theatre\, 630 S Broadway\, Los Angeles\, CA\, 90012\, United States
END:VEVENT
BEGIN:VEVENT
DTSTART;TZID=America/Los_Angeles:20190307T080000
DTEND;TZID=America/Los_Angeles:20190307T103000
DTSTAMP:20260420T171914
CREATED:20190305T042917Z
LAST-MODIFIED:20190305T042917Z
UID:3917-1551945600-1551954600@epicenterla.org
SUMMARY:DTLA CERT
DESCRIPTION:
URL:http://epicenterla.org/event/dtla-cert/
LOCATION:department of transportation\, 100 S. Main St\, Los Angeles\, CA\, 90012\, United States
CATEGORIES:CERT Training
END:VEVENT
BEGIN:VEVENT
DTSTART;TZID=America/Los_Angeles:20190206T090000
DTEND;TZID=America/Los_Angeles:20190206T110000
DTSTAMP:20260420T171914
CREATED:20190204T203326Z
LAST-MODIFIED:20190204T203326Z
UID:3592-1549443600-1549450800@epicenterla.org
SUMMARY:Los Angeles Emergency Management Committee Meeting
DESCRIPTION:
URL:http://epicenterla.org/event/los-angeles-emergency-management-committee-meeting/
LOCATION:Media Center Room\, Emergency Operations Center\, 500 E. Temple St\, Los Angeles\, CA\, 90012\, United States
END:VEVENT
BEGIN:VEVENT
DTSTART;TZID=America/Los_Angeles:20190205T183000
DTEND;TZID=America/Los_Angeles:20190205T203000
DTSTAMP:20260420T171914
CREATED:20190204T203657Z
LAST-MODIFIED:20190204T203657Z
UID:3595-1549391400-1549398600@epicenterla.org
SUMMARY:LAFD CERT (Korean Language)
DESCRIPTION:
URL:http://epicenterla.org/event/lafd-cert-korean-language/
LOCATION:LAPD Olympic Community Room\, 1130 S Vermont Ave\, Los Angeles\, CA\, 90006\, United States
END:VEVENT
BEGIN:VEVENT
DTSTART;TZID=America/Los_Angeles:20180522T100000
DTEND;TZID=America/Los_Angeles:20180522T120000
DTSTAMP:20260420T171914
CREATED:20180507T175426Z
LAST-MODIFIED:20180507T175426Z
UID:2557-1526983200-1526990400@epicenterla.org
SUMMARY:CDC Traveler's Health Webinar
DESCRIPTION:Please join us online for a webinar on traveler safety. CDC’s Division of Global Migration and Quarantine is joining the CDC EPIC team to explain how to prepare for the summer travel season\, including diseases to look out for in different parts of the world\, suggested vaccinations\, and other health considerations. \nPresenters \nMartin Cetron\, MD\n Director\n CDC Division of Global Migration and Quarantine \nKelly Holton\n Chief Communications Officer\, Travelers’ Health Branch\n CDC Division of Global Migration and Quarantine \nWebinar participants and viewers will accomplish the following: \n\nDevelop or increase their awareness of current travelers’ health concerns\nLearn steps travelers can take before and during travel to stay healthy and safe\nLearn about resources that CDC offers to help travelers and their clinicians\n\nConnection Information \nYou are invited to a Zoom webinar.\nTopic: CDC EPIC: Travelers’ Health\nPlease click the link below to join the webinar: https://zoom.us/j/858571900 \nOr iPhone one-tap :\nUS: +16699006833\,\,858571900#  or +14086380968\,\,858571900#\nOr Telephone:\nDial (for higher quality\, dial a number based on your current location):\nUS: +1 669 900 6833  or +1 408 638 0968  or +1 646 876 9923\nWebinar ID: 858 571 900\nInternational numbers available: https://zoom.us/u/dkDJNaSQ7
URL:http://epicenterla.org/event/cdc-travelers-health-webinar/
LOCATION:CA
END:VEVENT
BEGIN:VEVENT
DTSTART;TZID=America/Los_Angeles:20180519T110000
DTEND;TZID=America/Los_Angeles:20180519T150000
DTSTAMP:20260420T171914
CREATED:20180514T035817Z
LAST-MODIFIED:20180514T040130Z
UID:2609-1526727600-1526742000@epicenterla.org
SUMMARY:AWARE for All - Los Angeles 2018
DESCRIPTION:AWARE for All – Los Angeles: Clinical Research Education Day is a free educational event that serves as a forum for open dialogue between patients\, members of the public\, and health and research professionals. AWARE for All will provide information about the clinical research process and activity here in LA\, as well as food\, prizes\, and free health screenings. \nSi prefiere escuchar a la presentación en español\, por favor indique el formulario de registración. Se requiere una reserva para usar este servicio de audio. (If you prefer to hear the presentation in Spanish\, please indicate on the order form.  A reservation is required for this audio service). \nHaga clic para ver el formulario en español \nJOURNEY TO BETTER HEALTH MOBILE UNIT \nIn the days leading up to AWARE\, our first-of-its kind Journey to Better Health RV will visit various neighborhoods around Los Angeles. The mobile unit will offer interactive activities and educational resources about clinical research. For information on the locations that we will be visiting\, visit awareforall.org. \nAWARE EVENT SCHEDULE \n11:00AM – 3:00PM: Check-In / Registration / Health Fair & Screenings/Mobile Unit Open\n12:00PM – 12:05PM: Opening Remarks from Ellyn Getz\n12:05PM – 12:15PM: Keynote Address from Staci Hargraves\n12:15PM – 12:45PM: Overview Presentation: What Clinical Research Means to You\n12:45PM – 1:45PM: Panel Discussion about Clinical Research Participation\n1:45PM – 2:00PM: Med Hero Ceremony and Raffle\n2:00PM – 2:15PM: Closing Remarks from A.C. Green\n2:15PM – 3:00PM: Health Fair & Screenings Re-Open \nHEALTH SCREENINGS \nBlood Pressure\nBody Composition\nDiabetes\nFasting Blood Sugar\nFoot Screens\nLipids\nLiver\nMemory\nOne-Minute HIV Rapid Tests \nSign up here! \nFAQs \nDo I have to bring my printed ticket to the event?\nNo need to do so! We will check your name on our attendee pre-registration list. \nWill there be parking?\nYes! We are offering parking free-of-charge at McCarthy Way Parking Structure (Formerly Parking Structure X) located at 601 USC McCarthy Way\, Los Angeles\, CA 90007. Once you have parked\, mention AWARE for All to the guard at the ticket booth. Collect your hosted pass\, then place your ticket on your dashboard to be clearly visible. \nCan I bring friends and family?\nWe encourage all our attendees to spread the word to their friends and family! If you bring anyone with you to the event\, you will be given a blue raffle ticket to be entered into our Friends & Family Raffle to win a Kindle Fire!
URL:http://epicenterla.org/event/aware-for-all-los-angeles-2018/
LOCATION:USC’s Trojan Grand Ballroom\, 3607 Trousdale Parkway Ronald Tutor Campus Center\, Los Angeles\, CA\, 90089\, United States
END:VEVENT
BEGIN:VEVENT
DTSTART;TZID=America/Los_Angeles:20180519T080000
DTEND;TZID=America/Los_Angeles:20180519T133000
DTSTAMP:20260420T171914
CREATED:20180514T040546Z
LAST-MODIFIED:20180514T040546Z
UID:2617-1526716800-1526736600@epicenterla.org
SUMMARY:AHA BLS CPR/AED Courses - AU VPC
DESCRIPTION:Event Information\n\n\n\n\n\n\n\n\n\n\n\n\n\n\nDESCRIPTION\n\n\n\nThis hands-on course through the American Heart Association is designed to “reinforce healthcare professionals’ understanding of the importance of early CPR and defibrillation\, basic steps of performing CPR\, relieving choking\, and using an AED; and the role of each link in the Chain of Survival.” In this instructor-led BLS course\, students will learn to rapidly recognize and respond to several life-threatening emergencies. Instructors will observe their technique and provide feedback\, and students will need to complete a multiple choice exam in order to receive their certification. \nCourse Content (From the AHA): \n\nHigh-quality CPR for adults\, children\, and infants\nThe AHA Chain of Survival\, specifically the BLS components\nUse of an AED\nEffective ventilations using a barrier device\nImportance of teams in multirescuer resuscitation and performance as an effective team member during multirescuer CPR\nRelief of foreign-body airway obstruction (choking) for adults and infants\n\nNote: This is for undergraduate UCLA students only. This course is recommended for students who will be working in a healthcare environment. This course may not be taken to fulfill an EMT requirement for UCLA EMS.
URL:http://epicenterla.org/event/aha-bls-cpr-aed-courses-au-vpc/
LOCATION:UCLA Ackerman Student Union VPC (Viewpoint Conference Room)  308 Westwood Plaza  Los Angeles\, CA 90095\, 308 Westwood Plaza\, Los Angeles\, CA\, 90095\, United States
END:VEVENT
END:VCALENDAR